BEGIN:VCALENDAR
VERSION:2.0
PRODID:-//Elmhurst Area Moms - ECPv6.15.20//NONSGML v1.0//EN
CALSCALE:GREGORIAN
METHOD:PUBLISH
X-WR-CALNAME:Elmhurst Area Moms
X-ORIGINAL-URL:https://elmhurstareamoms.org
X-WR-CALDESC:Events for Elmhurst Area Moms
REFRESH-INTERVAL;VALUE=DURATION:PT1H
X-Robots-Tag:noindex
X-PUBLISHED-TTL:PT1H
BEGIN:VTIMEZONE
TZID:America/Chicago
BEGIN:DAYLIGHT
TZOFFSETFROM:-0600
TZOFFSETTO:-0500
TZNAME:CDT
DTSTART:20210314T080000
END:DAYLIGHT
BEGIN:STANDARD
TZOFFSETFROM:-0500
TZOFFSETTO:-0600
TZNAME:CST
DTSTART:20211107T070000
END:STANDARD
BEGIN:DAYLIGHT
TZOFFSETFROM:-0600
TZOFFSETTO:-0500
TZNAME:CDT
DTSTART:20220313T080000
END:DAYLIGHT
BEGIN:STANDARD
TZOFFSETFROM:-0500
TZOFFSETTO:-0600
TZNAME:CST
DTSTART:20221106T070000
END:STANDARD
BEGIN:DAYLIGHT
TZOFFSETFROM:-0600
TZOFFSETTO:-0500
TZNAME:CDT
DTSTART:20230312T080000
END:DAYLIGHT
BEGIN:STANDARD
TZOFFSETFROM:-0500
TZOFFSETTO:-0600
TZNAME:CST
DTSTART:20231105T070000
END:STANDARD
END:VTIMEZONE
BEGIN:VEVENT
DTSTART;TZID=America/Chicago:20220818T193000
DTEND;TZID=America/Chicago:20220818T223000
DTSTAMP:20260420T223141
CREATED:20220727T200529Z
LAST-MODIFIED:20220727T200529Z
UID:3355-1660851000-1660861800@elmhurstareamoms.org
SUMMARY:MNO at Ming Chef
DESCRIPTION:This content is available only to current members.\nAlready an active member? Login below! \n\n\n	\n	\n\n		\n		\n			\n				Username\n				\n			 \n			\n				Password\n				\n			 \n						\n				\n				Remember me\n			 \n			Lost your password? \n			\n				\n				\n				\n				\n			 \n					\n\n		\n	\n \nNot an active member? Join today!
URL:https://elmhurstareamoms.org/event/mno-at-ming-chef/
LOCATION:ming chef\, 233 n york st.\, elmhurst\, IL\, 60126\, United States
CATEGORIES:Mom's Night Out
END:VEVENT
END:VCALENDAR