BEGIN:VCALENDAR
VERSION:2.0
PRODID:-//Elmhurst Area Moms - ECPv6.15.20//NONSGML v1.0//EN
CALSCALE:GREGORIAN
METHOD:PUBLISH
X-WR-CALNAME:Elmhurst Area Moms
X-ORIGINAL-URL:https://elmhurstareamoms.org
X-WR-CALDESC:Events for Elmhurst Area Moms
REFRESH-INTERVAL;VALUE=DURATION:PT1H
X-Robots-Tag:noindex
X-PUBLISHED-TTL:PT1H
BEGIN:VTIMEZONE
TZID:America/Chicago
BEGIN:DAYLIGHT
TZOFFSETFROM:-0600
TZOFFSETTO:-0500
TZNAME:CDT
DTSTART:20240310T080000
END:DAYLIGHT
BEGIN:STANDARD
TZOFFSETFROM:-0500
TZOFFSETTO:-0600
TZNAME:CST
DTSTART:20241103T070000
END:STANDARD
BEGIN:DAYLIGHT
TZOFFSETFROM:-0600
TZOFFSETTO:-0500
TZNAME:CDT
DTSTART:20250309T080000
END:DAYLIGHT
BEGIN:STANDARD
TZOFFSETFROM:-0500
TZOFFSETTO:-0600
TZNAME:CST
DTSTART:20251102T070000
END:STANDARD
BEGIN:DAYLIGHT
TZOFFSETFROM:-0600
TZOFFSETTO:-0500
TZNAME:CDT
DTSTART:20260308T080000
END:DAYLIGHT
BEGIN:STANDARD
TZOFFSETFROM:-0500
TZOFFSETTO:-0600
TZNAME:CST
DTSTART:20261101T070000
END:STANDARD
END:VTIMEZONE
BEGIN:VEVENT
DTSTART;TZID=America/Chicago:20250225T093000
DTEND;TZID=America/Chicago:20250225T103000
DTSTAMP:20260419T221300
CREATED:20250124T201546Z
LAST-MODIFIED:20250124T201546Z
UID:5648-1740475800-1740479400@elmhurstareamoms.org
SUMMARY:Rise n' Thrive Smoothie Meetup
DESCRIPTION:This content is available only to current members.\nAlready an active member? Login below! \n\n\n	\n	\n\n		\n		\n			\n				Username\n				\n			 \n			\n				Password\n				\n			 \n						\n				\n				Remember me\n			 \n			Lost your password? \n			\n				\n				\n				\n				\n			 \n					\n\n		\n	\n \nNot an active member? Join today!
URL:https://elmhurstareamoms.org/event/rise-n-thrive-smoothie-meetup/
LOCATION:Rise N Thrive\, 185 East Butterfield Road\, Elmhurst
END:VEVENT
END:VCALENDAR