BEGIN:VCALENDAR
VERSION:2.0
PRODID:-//Elmhurst Area Moms - ECPv6.15.20//NONSGML v1.0//EN
CALSCALE:GREGORIAN
METHOD:PUBLISH
X-ORIGINAL-URL:https://elmhurstareamoms.org
X-WR-CALDESC:Events for Elmhurst Area Moms
REFRESH-INTERVAL;VALUE=DURATION:PT1H
X-Robots-Tag:noindex
X-PUBLISHED-TTL:PT1H
BEGIN:VTIMEZONE
TZID:America/Chicago
BEGIN:DAYLIGHT
TZOFFSETFROM:-0600
TZOFFSETTO:-0500
TZNAME:CDT
DTSTART:20240310T080000
END:DAYLIGHT
BEGIN:STANDARD
TZOFFSETFROM:-0500
TZOFFSETTO:-0600
TZNAME:CST
DTSTART:20241103T070000
END:STANDARD
BEGIN:DAYLIGHT
TZOFFSETFROM:-0600
TZOFFSETTO:-0500
TZNAME:CDT
DTSTART:20250309T080000
END:DAYLIGHT
BEGIN:STANDARD
TZOFFSETFROM:-0500
TZOFFSETTO:-0600
TZNAME:CST
DTSTART:20251102T070000
END:STANDARD
BEGIN:DAYLIGHT
TZOFFSETFROM:-0600
TZOFFSETTO:-0500
TZNAME:CDT
DTSTART:20260308T080000
END:DAYLIGHT
BEGIN:STANDARD
TZOFFSETFROM:-0500
TZOFFSETTO:-0600
TZNAME:CST
DTSTART:20261101T070000
END:STANDARD
END:VTIMEZONE
BEGIN:VEVENT
DTSTART;TZID=America/Chicago:20250227T093000
DTEND;TZID=America/Chicago:20250227T100000
DTSTAMP:20260419T190042
CREATED:20250124T201657Z
LAST-MODIFIED:20250124T201657Z
UID:5652-1740648600-1740650400@elmhurstareamoms.org
SUMMARY:Fun for 3s\, 4s\, and 5s
DESCRIPTION:This content is available only to current members.\nAlready an active member? Login below! \n\n\n	\n	\n\n		\n		\n			\n				Username\n				\n			 \n			\n				Password\n				\n			 \n						\n				\n				Remember me\n			 \n			Lost your password? \n			\n				\n				\n				\n				\n			 \n					\n\n		\n	\n \nNot an active member? Join today!
URL:https://elmhurstareamoms.org/event/fun-for-3s-4s-and-5s-2/
LOCATION:Elmhurst Public Library\, 125 S Prospect Ave\, Elmhurst\, IL\, 60126\, United States
CATEGORIES:Library
END:VEVENT
END:VCALENDAR