BEGIN:VCALENDAR
VERSION:2.0
PRODID:-//Elmhurst Area Moms - ECPv6.15.20//NONSGML v1.0//EN
CALSCALE:GREGORIAN
METHOD:PUBLISH
X-ORIGINAL-URL:https://elmhurstareamoms.org
X-WR-CALDESC:Events for Elmhurst Area Moms
REFRESH-INTERVAL;VALUE=DURATION:PT1H
X-Robots-Tag:noindex
X-PUBLISHED-TTL:PT1H
BEGIN:VTIMEZONE
TZID:America/Chicago
BEGIN:DAYLIGHT
TZOFFSETFROM:-0600
TZOFFSETTO:-0500
TZNAME:CDT
DTSTART:20250309T080000
END:DAYLIGHT
BEGIN:STANDARD
TZOFFSETFROM:-0500
TZOFFSETTO:-0600
TZNAME:CST
DTSTART:20251102T070000
END:STANDARD
BEGIN:DAYLIGHT
TZOFFSETFROM:-0600
TZOFFSETTO:-0500
TZNAME:CDT
DTSTART:20260308T080000
END:DAYLIGHT
BEGIN:STANDARD
TZOFFSETFROM:-0500
TZOFFSETTO:-0600
TZNAME:CST
DTSTART:20261101T070000
END:STANDARD
BEGIN:DAYLIGHT
TZOFFSETFROM:-0600
TZOFFSETTO:-0500
TZNAME:CDT
DTSTART:20270314T080000
END:DAYLIGHT
BEGIN:STANDARD
TZOFFSETFROM:-0500
TZOFFSETTO:-0600
TZNAME:CST
DTSTART:20271107T070000
END:STANDARD
END:VTIMEZONE
BEGIN:VEVENT
DTSTART;TZID=America/Chicago:20260429T153000
DTEND;TZID=America/Chicago:20260429T170000
DTSTAMP:20260424T111157
CREATED:20260324T002626Z
LAST-MODIFIED:20260324T002626Z
UID:6285-1777476600-1777482000@elmhurstareamoms.org
SUMMARY:Washington Park Play Date
DESCRIPTION:This content is available only to current members.\nAlready an active member? Login below! \n\n\n	\n	\n\n		\n		\n			\n				Username\n				\n			 \n			\n				Password\n				\n			 \n						\n				\n				Remember me\n			 \n			Lost your password? \n			\n				\n				\n				\n				\n			 \n					\n\n		\n	\n \nNot an active member? Join today!
URL:https://elmhurstareamoms.org/event/washington-park-play-date/
LOCATION:Washington Park\, 445 S Poplar Ave\, Elmhurst\, IL\, 60126\, United States
END:VEVENT
END:VCALENDAR