BEGIN:VCALENDAR
VERSION:2.0
PRODID:-//Elmhurst Area Moms - ECPv6.15.20//NONSGML v1.0//EN
CALSCALE:GREGORIAN
METHOD:PUBLISH
X-WR-CALNAME:Elmhurst Area Moms
X-ORIGINAL-URL:https://elmhurstareamoms.org
X-WR-CALDESC:Events for Elmhurst Area Moms
REFRESH-INTERVAL;VALUE=DURATION:PT1H
X-Robots-Tag:noindex
X-PUBLISHED-TTL:PT1H
BEGIN:VTIMEZONE
TZID:America/Chicago
BEGIN:DAYLIGHT
TZOFFSETFROM:-0600
TZOFFSETTO:-0500
TZNAME:CDT
DTSTART:20250309T080000
END:DAYLIGHT
BEGIN:STANDARD
TZOFFSETFROM:-0500
TZOFFSETTO:-0600
TZNAME:CST
DTSTART:20251102T070000
END:STANDARD
BEGIN:DAYLIGHT
TZOFFSETFROM:-0600
TZOFFSETTO:-0500
TZNAME:CDT
DTSTART:20260308T080000
END:DAYLIGHT
BEGIN:STANDARD
TZOFFSETFROM:-0500
TZOFFSETTO:-0600
TZNAME:CST
DTSTART:20261101T070000
END:STANDARD
BEGIN:DAYLIGHT
TZOFFSETFROM:-0600
TZOFFSETTO:-0500
TZNAME:CDT
DTSTART:20270314T080000
END:DAYLIGHT
BEGIN:STANDARD
TZOFFSETFROM:-0500
TZOFFSETTO:-0600
TZNAME:CST
DTSTART:20271107T070000
END:STANDARD
END:VTIMEZONE
BEGIN:VEVENT
DTSTART;TZID=America/Chicago:20260302T080000
DTEND;TZID=America/Chicago:20260302T170000
DTSTAMP:20260424T111105
CREATED:20260302T221052Z
LAST-MODIFIED:20260302T221052Z
UID:6266-1772438400-1772470800@elmhurstareamoms.org
SUMMARY:Baby Brunch & Yoga with Ms. Rachael from Starlight Studio
DESCRIPTION:This content is available only to current members.\nAlready an active member? Login below! \n\n\n	\n	\n\n		\n		\n			\n				Username\n				\n			 \n			\n				Password\n				\n			 \n						\n				\n				Remember me\n			 \n			Lost your password? \n			\n				\n				\n				\n				\n			 \n					\n\n		\n	\n \nNot an active member? Join today!
URL:https://elmhurstareamoms.org/event/baby-brunch-yoga-with-ms-rachael-from-starlight-studio/
LOCATION:440 E East Ct Elmhurst\, IL
END:VEVENT
BEGIN:VEVENT
DTSTART;TZID=America/Chicago:20260307T100000
DTEND;TZID=America/Chicago:20260307T110000
DTSTAMP:20260424T111105
CREATED:20260219T183730Z
LAST-MODIFIED:20260219T190329Z
UID:6223-1772877600-1772881200@elmhurstareamoms.org
SUMMARY:Elmhurst St. Patrick's Day Parade Meet Up
DESCRIPTION:This content is available only to current members.\nAlready an active member? Login below! \n\n\n	\n	\n\n		\n		\n			\n				Username\n				\n			 \n			\n				Password\n				\n			 \n						\n				\n				Remember me\n			 \n			Lost your password? \n			\n				\n				\n				\n				\n			 \n					\n\n		\n	\n \nNot an active member? Join today!
URL:https://elmhurstareamoms.org/event/elmhurst-st-patricks-day-parade-meet-up-2/
LOCATION:952 S. Spring Road\, Elmhurst\, 952 S. Spring Road\, Elmhurst\, Illinois\, 60126
END:VEVENT
BEGIN:VEVENT
DTSTART;TZID=America/Chicago:20260308T100000
DTEND;TZID=America/Chicago:20260308T110000
DTSTAMP:20260424T111105
CREATED:20260224T160317Z
LAST-MODIFIED:20260224T160317Z
UID:6236-1772964000-1772967600@elmhurstareamoms.org
SUMMARY:Flexx Personal Training
DESCRIPTION:This content is available only to current members.\nAlready an active member? Login below! \n\n\n	\n	\n\n		\n		\n			\n				Username\n				\n			 \n			\n				Password\n				\n			 \n						\n				\n				Remember me\n			 \n			Lost your password? \n			\n				\n				\n				\n				\n			 \n					\n\n		\n	\n \nNot an active member? Join today!
URL:https://elmhurstareamoms.org/event/flexx-personal-training/
LOCATION:Flexx Personal Training\, 176 N. York St.\, Elmhurst\, 60126\, United States
END:VEVENT
BEGIN:VEVENT
DTSTART;TZID=America/Chicago:20260313T090000
DTEND;TZID=America/Chicago:20260313T103000
DTSTAMP:20260424T111105
CREATED:20260219T190155Z
LAST-MODIFIED:20260219T190155Z
UID:6227-1773392400-1773397800@elmhurstareamoms.org
SUMMARY:Preschool Open Gym
DESCRIPTION:This content is available only to current members.\nAlready an active member? Login below! \n\n\n	\n	\n\n		\n		\n			\n				Username\n				\n			 \n			\n				Password\n				\n			 \n						\n				\n				Remember me\n			 \n			Lost your password? \n			\n				\n				\n				\n				\n			 \n					\n\n		\n	\n \nNot an active member? Join today!
URL:https://elmhurstareamoms.org/event/preschool-open-gym-5/
LOCATION:185 W Industrial Dr. Elmhurst\, IL\, 185 W Industrial Dr.\, Elmhurst\, IL\, 60126\, United States
END:VEVENT
BEGIN:VEVENT
DTSTART;TZID=America/Chicago:20260315T170000
DTEND;TZID=America/Chicago:20260315T190000
DTSTAMP:20260424T111105
CREATED:20260219T191808Z
LAST-MODIFIED:20260219T191808Z
UID:6232-1773594000-1773601200@elmhurstareamoms.org
SUMMARY:Goldfish Family Swim Pizza & Pool Party
DESCRIPTION:This content is available only to current members.\nAlready an active member? Login below! \n\n\n	\n	\n\n		\n		\n			\n				Username\n				\n			 \n			\n				Password\n				\n			 \n						\n				\n				Remember me\n			 \n			Lost your password? \n			\n				\n				\n				\n				\n			 \n					\n\n		\n	\n \nNot an active member? Join today!
URL:https://elmhurstareamoms.org/event/goldfish-family-swim-pizza-pool-party-2/
LOCATION:Goldfish Swim School\, 614 N Michigan St\, Elmhurst\, IL\, 60126\, United States
END:VEVENT
BEGIN:VEVENT
DTSTART;TZID=America/Chicago:20260317T150000
DTEND;TZID=America/Chicago:20260317T170000
DTSTAMP:20260424T111105
CREATED:20260225T003912Z
LAST-MODIFIED:20260225T003912Z
UID:6240-1773759600-1773766800@elmhurstareamoms.org
SUMMARY:St. Patrick's Day Scavenger Hunt
DESCRIPTION:This content is available only to current members.\nAlready an active member? Login below! \n\n\n	\n	\n\n		\n		\n			\n				Username\n				\n			 \n			\n				Password\n				\n			 \n						\n				\n				Remember me\n			 \n			Lost your password? \n			\n				\n				\n				\n				\n			 \n					\n\n		\n	\n \nNot an active member? Join today!
URL:https://elmhurstareamoms.org/event/st-patricks-day-scavenger-hunt-3/
LOCATION:Washington Park\, 445 S Poplar Ave\, Elmhurst\, IL\, 60126\, United States
END:VEVENT
BEGIN:VEVENT
DTSTART;TZID=America/Chicago:20260321T190000
DTEND;TZID=America/Chicago:20260321T230000
DTSTAMP:20260424T111105
CREATED:20260228T045435Z
LAST-MODIFIED:20260228T045435Z
UID:6261-1774119600-1774134000@elmhurstareamoms.org
SUMMARY:Parents' Night Out at Lo Key
DESCRIPTION:This content is available only to current members.\nAlready an active member? Login below! \n\n\n	\n	\n\n		\n		\n			\n				Username\n				\n			 \n			\n				Password\n				\n			 \n						\n				\n				Remember me\n			 \n			Lost your password? \n			\n				\n				\n				\n				\n			 \n					\n\n		\n	\n \nNot an active member? Join today!
URL:https://elmhurstareamoms.org/event/parents-night-out-at-lo-key/
LOCATION:Lo Key Cocktail Lounge\, 115 W. Schiller Ct.\, Elmhurst\, IL\, 60126\, United States
END:VEVENT
BEGIN:VEVENT
DTSTART;TZID=America/Chicago:20260326T080000
DTEND;TZID=America/Chicago:20260326T100000
DTSTAMP:20260424T111105
CREATED:20260226T024046Z
LAST-MODIFIED:20260226T023948Z
UID:6251-1774512000-1774519200@elmhurstareamoms.org
SUMMARY:EAM Exclusive Playdate at Marshmallow Play
DESCRIPTION:This content is available only to current members.\nAlready an active member? Login below! \n\n\n	\n	\n\n		\n		\n			\n				Username\n				\n			 \n			\n				Password\n				\n			 \n						\n				\n				Remember me\n			 \n			Lost your password? \n			\n				\n				\n				\n				\n			 \n					\n\n		\n	\n \nNot an active member? Join today!
URL:https://elmhurstareamoms.org/event/eam-exclusive-playdate-at-marshmallow-play-2/
LOCATION:Marshmallow Indoor Play\, 572 N Michigan St\, Elmhurst\, IL\, 60126
END:VEVENT
BEGIN:VEVENT
DTSTART;TZID=America/Chicago:20260331T150000
DTEND;TZID=America/Chicago:20260331T170000
DTSTAMP:20260424T111105
CREATED:20260225T005151Z
LAST-MODIFIED:20260225T005151Z
UID:6244-1774969200-1774976400@elmhurstareamoms.org
SUMMARY:Meet Up at Butterfield Park
DESCRIPTION:This content is available only to current members.\nAlready an active member? Login below! \n\n\n	\n	\n\n		\n		\n			\n				Username\n				\n			 \n			\n				Password\n				\n			 \n						\n				\n				Remember me\n			 \n			Lost your password? \n			\n				\n				\n				\n				\n			 \n					\n\n		\n	\n \nNot an active member? Join today!
URL:https://elmhurstareamoms.org/event/meet-up-at-butterfield-park/
LOCATION:Butterfield Park\, 385 E Van Buren St\, Elmhurst\, IL\, 60126\, United States
END:VEVENT
END:VCALENDAR